BEGIN:VCALENDAR
VERSION:2.0
PRODID:icalendar-ruby
CALSCALE:GREGORIAN
METHOD:PUBLISH
BEGIN:VEVENT
DTSTAMP:20260426T021722Z
UID:11-384939@bible-fellowship.church
DTSTART:20261004T150000Z
DTEND:20261004T160000Z
CLASS:PUBLIC
CREATED:20260425T213144
DESCRIPTION:
LAST-MODIFIED:20260425T213144
LOCATION:
SUMMARY:Sunday Worship
URL;VALUE=URI:https://www.bible-fellowship.church/events/sunday-worship/202
 6-10-04
ATTACH;FILENAME=dBCA.jpg;FMTTYPE=image/jpeg:https://dq5pwpg1q8ru0.cloudfron
 t.net/2024/07/07/21/26/38/33724a74-97c9-4cf9-8881-8bd08517f6dd/dBCA.jpg
END:VEVENT
END:VCALENDAR
