BEGIN:VCALENDAR
VERSION:2.0
PRODID:icalendar-ruby
CALSCALE:GREGORIAN
METHOD:PUBLISH
BEGIN:VEVENT
DTSTAMP:20260426T004734Z
UID:11-384632@bible-fellowship.church
DTSTART:20260927T150000Z
DTEND:20260927T160000Z
CLASS:PUBLIC
CREATED:20260425T184934
DESCRIPTION:
LAST-MODIFIED:20260425T184934
LOCATION:
SUMMARY:Sunday Worship
URL;VALUE=URI:https://www.bible-fellowship.church/events/sunday-worship/202
 6-09-27
ATTACH;FILENAME=dBCA.jpg;FMTTYPE=image/jpeg:https://dq5pwpg1q8ru0.cloudfron
 t.net/2024/07/07/21/26/38/33724a74-97c9-4cf9-8881-8bd08517f6dd/dBCA.jpg
END:VEVENT
END:VCALENDAR
