BEGIN:VCALENDAR
VERSION:2.0
PRODID:icalendar-ruby
CALSCALE:GREGORIAN
METHOD:PUBLISH
BEGIN:VEVENT
DTSTAMP:20260426T021306Z
UID:10-384818@bible-fellowship.church
DTSTART:20261007T223000Z
DTEND:20261007T233000Z
CLASS:PUBLIC
CREATED:20260425T213144
DESCRIPTION:
LAST-MODIFIED:20260425T213144
LOCATION:Fellowship Hall
SUMMARY:Small Group
URL;VALUE=URI:https://www.bible-fellowship.church/events/small-group/2026-1
 0-07
END:VEVENT
END:VCALENDAR
