BEGIN:VCALENDAR
VERSION:2.0
PRODID:icalendar-ruby
CALSCALE:GREGORIAN
METHOD:PUBLISH
BEGIN:VEVENT
DTSTAMP:20260426T004354Z
UID:10-384511@bible-fellowship.church
DTSTART:20260930T223000Z
DTEND:20260930T233000Z
CLASS:PUBLIC
CREATED:20260425T184934
DESCRIPTION:
LAST-MODIFIED:20260425T184934
LOCATION:Fellowship Hall
SUMMARY:Small Group
URL;VALUE=URI:https://www.bible-fellowship.church/events/small-group/2026-0
 9-30
END:VEVENT
END:VCALENDAR
