BEGIN:VCALENDAR
VERSION:2.0
PRODID:icalendar-ruby
CALSCALE:GREGORIAN
METHOD:PUBLISH
BEGIN:VEVENT
DTSTAMP:20260426T000946Z
UID:17-384694@bible-fellowship.church
DTSTART:20260921T140000Z
DTEND:20260922T170000Z
CLASS:PUBLIC
CREATED:20260425T184934
DESCRIPTION:
LAST-MODIFIED:20260425T184934
LOCATION:Rotating area courses
SUMMARY:BFC Disc Golf
URL;VALUE=URI:https://www.bible-fellowship.church/events/bfc-disc-golf/2026
 -09-21
ATTACH;FILENAME=BFCDG.jpg;FMTTYPE=image/jpeg:https://dq5pwpg1q8ru0.cloudfro
 nt.net/2025/08/22/17/16/16/f15cc4f2-7b66-4fe6-b42e-b801842208ce/BFCDG.jpg
END:VEVENT
END:VCALENDAR
